BEGIN:VCALENDAR
VERSION:2.0
PRODID:-//wp-events-plugin.com//7.2.3.1//EN
TZID:Europe/Madrid
X-WR-TIMEZONE:Europe/Madrid
BEGIN:VEVENT
UID:45@jopma.org
DTSTART;TZID=Europe/Madrid:20241207T163000
DTEND;TZID=Europe/Madrid:20241207T180000
DTSTAMP:20241117T172424Z
URL:https://jopma.org/eventos/tetuan-teatro-espanol-diciembre-2024/
SUMMARY:Tetuán (Teatro Español)
DESCRIPTION:Concierto benéfico a favor de la asociación “La Cuna de In
 ocencia”\, la cual tiene como misión dar ayuda a los niños abandonados
  del Hospital Civil Saniat R’mel de Tetuán (Marruecos).\nPROGRAMA\n\nPa
 rte I\n\nObras de diferentes estilos musicales (clásico\, bandas sonoras\
 , popular árabe) junto a la Coral CasaSawt (Casablanca) bajo la direcció
 n de Adnane Matrome en calidad de director invitado de la JOPMA.\n\nPart
 e II\n\nObras de música popular marroquí junto a la soprano Samira Kadi
 ri y su conjunto bajo la dirección de Juan Paulo Gómez\, director titul
 ar de la JOPMA.\n\n 	Unshudat Al Nay\n 	Ra7eeq l3eshq\n 	A7la khabar\n 	7i
 na ahwa\n 	Ya 3ashiqatal wardi\n 	Ya zahratan fi khayali\n 	Ana albi dalil
 i\n 	Ana lwarqatu lmeskina\n\nJuan Paulo Gómez\, director
ATTACH;FMTTYPE=image/jpeg:https://jopma.org/wp-content/uploads/Tetuan-dici
 embre-2024-900x900-1.jpg
LOCATION:Tetuán (Teatro Español)\, Av. Mohamed Ben Larbi Torres\, Tetuán
 \, Marruecos
GEO:35.569626;-5.369804
X-APPLE-STRUCTURED-LOCATION;VALUE=URI;X-ADDRESS=Av. Mohamed Ben Larbi Torre
 s\, Tetuán\, Marruecos;X-APPLE-RADIUS=100;X-TITLE=Tetuán (Teatro Españo
 l):geo:35.569626,-5.369804
END:VEVENT
BEGIN:VTIMEZONE
TZID:Europe/Madrid
X-LIC-LOCATION:Europe/Madrid
BEGIN:STANDARD
DTSTART:20241027T020000
TZOFFSETFROM:+0200
TZOFFSETTO:+0100
TZNAME:CET
END:STANDARD
END:VTIMEZONE
END:VCALENDAR