BEGIN:VCALENDAR
VERSION:2.0
PRODID:-//wp-events-plugin.com//7.2.3.1//EN
TZID:Europe/Madrid
X-WR-TIMEZONE:Europe/Madrid
BEGIN:VEVENT
UID:10@jopma.org
DTSTART;TZID=Europe/Madrid:20230423T110000
DTEND;TZID=Europe/Madrid:20230423T123000
DTSTAMP:20230328T144644Z
URL:https://jopma.org/eventos/plaza-de-la-paz-en-canete-la-real/
SUMMARY:Plaza de la Paz en Cañete la Real
DESCRIPTION:PROGRAMA\n\nFranz von Suppè (1819 - 1895)\nCaballería ligera\
 n\nObra española (a determinar)\n\nEmmanuel Chabrier (1841 - 1894)\nEspa
 ña\n\nPablo Luna (1879 - 1942)\nDanza del fuego (Benamor)\n\nGeorges Biz
 et (1838 - 1885)\nCarmen (Suite nº 1)\n\nArturo Márquez (1950 - )\nDan
 zón nº 2\n\nInformación para la orquesta\nSábado 22 de abril\n\n 	10:0
 0 - 14:00: Ensayo en la sede de la JOPMA\n\nDomingo 23 de abril\n\n 	9:00 
 - salida en autobús desde la JOPMA\n 	10:30 - prueba acústica en Cañete
  la Real\n 	11:00 - inicio del concierto\n 	13:00 - salida en autobús des
 de Cañete la Real\n 	17:30 - prueba acústica en Periana\n 	18:00 - inici
 o del concierto\n\n* ajustaremos el horario de comida entre ambos conciert
 os\n\n
ATTACH;FMTTYPE=image/jpeg:https://jopma.org/wp-content/uploads/Canete-la-R
 eal-abril-2023.jpg
LOCATION:Plaza de la Paz\, Plaza de la Paz\, Cañete la Real\, Málaga\, 29
 340\, Andalucía\, España
GEO:36.995947;-5.080692
X-APPLE-STRUCTURED-LOCATION;VALUE=URI;X-ADDRESS=Plaza de la Paz\, Cañete l
 a Real\, Málaga\, 29340\, Andalucía\, España;X-APPLE-RADIUS=100;X-TITLE
 =Plaza de la Paz:geo:36.995947,-5.080692
END:VEVENT
BEGIN:VTIMEZONE
TZID:Europe/Madrid
X-LIC-LOCATION:Europe/Madrid
BEGIN:DAYLIGHT
DTSTART:20230326T030000
TZOFFSETFROM:+0100
TZOFFSETTO:+0200
TZNAME:CEST
END:DAYLIGHT
END:VTIMEZONE
END:VCALENDAR