BEGIN:VCALENDAR
VERSION:2.0
PRODID:-//wp-events-plugin.com//7.2.3.1//EN
TZID:Europe/Madrid
X-WR-TIMEZONE:Europe/Madrid
BEGIN:VEVENT
UID:28@jopma.org
DTSTART;TZID=Europe/Madrid:20240427T190000
DTEND;TZID=Europe/Madrid:20240427T203000
DTSTAMP:20240415T194439Z
URL:https://jopma.org/eventos/jimera-de-libar-abril24-homenaje-espinel/
SUMMARY:Jimera de Líbar (abril'24) - Homenaje Espinel
DESCRIPTION:PROGRAMA\n\n\n 	Rapsodia húngara nº 2\nFranz Liszt (1811 - 18
 86)\n 	Danza del fuego (Benamor)\nPablo Luna (1879 - 1942)\n 	España Walt
 z\, Op. 236\nÉmile Waldteufel (1837 - 1915)\n 	El Cid (Suite del Ballet)\
 nJules Massenet (1942 - 1912)\n 	Intermedio (La boda de Luis Alonso)\nGer
 ónimo Giménez (1854 - 1923)\n\nJuan Paulo Gómez\, director\n\nNotas al 
 programa\nLa variedad de obras que componen el programa proponen un viaje 
 por España y sus distintas visiones. La perspectiva francesa se presenta 
 con las piezas de Massenet y Waldteufel\, quienes fueron compañeros en el
  Conservatorio de París entre 1853 y 1857\, además de Chabrier\, autor d
 e las melodías que utiliza Waldteufel en su vals. El interés exótico y 
 las suaves orquestaciones francesas se combinan con una visión propia de 
 España\, de la mano de Luna y Giménez\, aunque con dos perspectivas muy 
 diferentes. Mientras que Luna presenta una música de reminiscencias árab
 es\, Giménez recurre a motivos del acervo cultural propio. El programa se
  complementa con otra aportación del nacionalismo musical\, esta vez hún
 garo\, de la mano de Franz Liszt.\n\nLa rapsodia de Liszt es la segunda de
  un ciclo de diecinueve rapsodias húngaras para piano que el compositor p
 ublicó en 1851. El autor realizó una orquestación y es\, en sus dos ver
 siones\, para piano y orquesta\, la rapsodia más famosa. Sin embargo\, el
  origen de las melodías no está claro\, se trata de un nacionalismo muy 
 idealizado. De hecho\, muchos estudiosos apuntan a que la melodía inicial
  es más rumana que húngara. La obra\, dividida en dos partes\, Lassan y 
 Friska\, presenta en cualquier caso los ideales musicales y orquestales de
  la Neudeutsche Schule\, de la que Liszt es representante.\n\nLuna logró 
 con su opereta Benamor\, de 1923\, lo que todo autor que estrenaba en el T
 eatro de la Zarzuela buscaba: un éxito instantáneo y abrumador. El diver
 tido libreto o la evocadora música hicieron que esta opereta fuese el may
 or triunfo del compositor.\nInspirada en el siglo XVI\, en Ispahán\, anti
 gua capital de Persia\, destaca por su expresiva música de rasgos sugeren
 temente árabes. El acto central termina con la Danza del Fuego\, pieza de
  gran lirismo y cuidada orquestación.\n\nLa órbita francesa comienza con
  el vals España\, de 1886\, de Waldteufel\, compositor de música de sal
 ón que utilizó la pieza España\, de Chabrier\, para realizar un sugeren
 te vals para piano\, presentado en esta ocasión bajo la orquestación de 
 Wright. El compositor\, de origen alemán\, reúne el viaje por España qu
 e Chabrier realizó y materializó en su obra con un género propiamente a
 ustriaco como el vals. La orquestación\, aunque posterior\, refleja el es
 tilismo francés de la época.\n\nEl Cid de Massenet es una ópera en cuat
 ro actos estrenada en 1885. Tal y como era norma en la tradición francesa
  de la época\, la ópera incluía números de ballet. Aunque la ópera es
  ya raramente representada\, estos números de ballet conforman una suite 
 que sí ha logrado mantenerse en el tiempo. Esta propone un viaje por Espa
 ña\, a través de distintas danzas\, estructuradas en siete movimientos y
  con una música exuberante y colorida. Se trata de una de las obras más 
 representativos del interés por España en el ámbito francés del XIX\, 
 el atractivo por lo lejano y lo colorido.\n\nEl programa se cierra con la 
 obra más propiamente española\, el Intermedio de La Boda de Luis Alonso\
 , zarzuela de Giménez estrenada en 1897\, en el Teatro de la Zarzuela. Co
 n libreto de Javier de Burgos y Larragoiti\, la zarzuela narra una histori
 a de amor y celos con la boda del maestro de baile gaditano Luis Alonso co
 mo telón de fondo. Los ritmos de bailes y las melodías andaluzas se mezc
 lan en el Intermedio\, fragmento de la zarzuela que más ha trascendido y 
 paradigma del folklore andaluz de la época.\n\nNotas al programa por Jos
 é Alberto Mancera Martínez.
ATTACH;FMTTYPE=image/jpeg:https://jopma.org/wp-content/uploads/Jimera-de-L
 ibar-abril-2024.jpeg
LOCATION:Iglesia Nuestra Señora de la Rosario\, Plaza Virgen de la Salud\,
  5\, Jimera de Líbar\, Málaga\, 29392\, Andalucía\, España
GEO:36.650954;-5.274341
X-APPLE-STRUCTURED-LOCATION;VALUE=URI;X-ADDRESS=Plaza Virgen de la Salud\, 
 5\, Jimera de Líbar\, Málaga\, 29392\, Andalucía\, España;X-APPLE-RADI
 US=100;X-TITLE=Iglesia Nuestra Señora de la Rosario:geo:36.650954,-5.2743
 41
END:VEVENT
BEGIN:VTIMEZONE
TZID:Europe/Madrid
X-LIC-LOCATION:Europe/Madrid
BEGIN:DAYLIGHT
DTSTART:20240331T030000
TZOFFSETFROM:+0100
TZOFFSETTO:+0200
TZNAME:CEST
END:DAYLIGHT
END:VTIMEZONE
END:VCALENDAR