BEGIN:VCALENDAR
VERSION:2.0
PRODID:-//wp-events-plugin.com//7.2.3.1//EN
TZID:Europe/Madrid
X-WR-TIMEZONE:Europe/Madrid
BEGIN:VEVENT
UID:59@jopma.org
DTSTART;TZID=Europe/Madrid:20250719T190000
DTEND;TZID=Europe/Madrid:20250719T203000
DTSTAMP:20250713T151542Z
URL:https://jopma.org/eventos/farajan-plaza-de-andalucia/
SUMMARY:Faraján (Plaza de Andalucía)
DESCRIPTION:PROGRAMA\n\n\n 	Las Hébridas (obertura)\nFelix Mendelssohn (18
 09 - 1847)\n 	Danza bacanal\nCamille Saint-Saëns (1835 - 1921)\n 	Entre n
 aranjos y olivos\nCristóbal LópezGándara (1988 - )\n 	Orgía (Danzas f
 antásticas)\nJoaquín Turina (1882 - 1949)\n 	Danza del fuego (Benamor)\n
 Pablo Luna (1879 - 1942)\n 	Intermedio (La boda de Luis Alonso)\nGerónimo
  Giménez (1854 - 1923)\n\nJuan Paulo Gómez\, director
ATTACH;FMTTYPE=image/jpeg:https://jopma.org/wp-content/uploads/Farajan-jul
 io-2025.jpg
LOCATION:Plaza de Andalucía\, Plaza de Andalucía\, Faraján\, Málaga\, 2
 9461\, Andalucía\, España
GEO:36.616487;-5.188948
X-APPLE-STRUCTURED-LOCATION;VALUE=URI;X-ADDRESS=Plaza de Andalucía\, Faraj
 án\, Málaga\, 29461\, Andalucía\, España;X-APPLE-RADIUS=100;X-TITLE=Pl
 aza de Andalucía:geo:36.616487,-5.188948
END:VEVENT
BEGIN:VTIMEZONE
TZID:Europe/Madrid
X-LIC-LOCATION:Europe/Madrid
BEGIN:DAYLIGHT
DTSTART:20250330T030000
TZOFFSETFROM:+0100
TZOFFSETTO:+0200
TZNAME:CEST
END:DAYLIGHT
END:VTIMEZONE
END:VCALENDAR