BEGIN:VCALENDAR
VERSION:2.0
PRODID:-//wp-events-plugin.com//7.2.3.1//EN
TZID:Europe/Madrid
X-WR-TIMEZONE:Europe/Madrid
BEGIN:VEVENT
UID:50@jopma.org
DTSTART;TZID=Europe/Madrid:20250503T123000
DTEND;TZID=Europe/Madrid:20250503T140000
DTSTAMP:20250420T132631Z
URL:https://jopma.org/eventos/estacion-de-gaucin/
SUMMARY:Estación de Gaucín (Avenida Santiago)
DESCRIPTION:Programa\n\n 	La forza del destino (obertura)\nGiuseppe Verdi (
 1801 – 1901)\n 	Rienzi (obertura)\nRichard Wagner (1813 – 1883)\n 	Las
  Hébridas (obertura)\nFelix Mendelssohn (1809 – 1847)\n 	Rapsodia húng
 ara nº 2\nFranz Liszt (1811 – 1886)\n 	Orgía (Danzas fantásticas)\nJo
 aquín Turina (1882 – 1949)\n 	Intermedio (La boda de Luis Alonso)\nGer
 ónimo Giménez (1854 – 1923)\n
ATTACH;FMTTYPE=image/jpeg:https://jopma.org/wp-content/uploads/Estacion-de
 -Gaucin-mayo-2025.jpg
LOCATION:Estación de Gaucín (Avenida Santiago)\, Avenida Santiago\, Estac
 ión de Gaucín\, Málaga\, 29490\, Andalucía\, España
GEO:36.540372;-5.386825
X-APPLE-STRUCTURED-LOCATION;VALUE=URI;X-ADDRESS=Avenida Santiago\, Estació
 n de Gaucín\, Málaga\, 29490\, Andalucía\, España;X-APPLE-RADIUS=100;X
 -TITLE=Estación de Gaucín (Avenida Santiago):geo:36.540372,-5.386825
END:VEVENT
BEGIN:VTIMEZONE
TZID:Europe/Madrid
X-LIC-LOCATION:Europe/Madrid
BEGIN:DAYLIGHT
DTSTART:20250330T030000
TZOFFSETFROM:+0100
TZOFFSETTO:+0200
TZNAME:CEST
END:DAYLIGHT
END:VTIMEZONE
END:VCALENDAR