BEGIN:VCALENDAR
VERSION:2.0
PRODID:-//wp-events-plugin.com//7.2.3.1//EN
TZID:Europe/Madrid
X-WR-TIMEZONE:Europe/Madrid
BEGIN:VEVENT
UID:44@jopma.org
DTSTART;TZID=Europe/Madrid:20241206T210000
DTEND;TZID=Europe/Madrid:20241206T223000
DTSTAMP:20241117T170946Z
URL:https://jopma.org/eventos/casablanca-megarana-diciembre-2024/
SUMMARY:Casablanca (Megarama)
DESCRIPTION:PROGRAMA\n\n\n 	Waltz n 2\n 	Boléro de Ravel\n 	Game of throne
 \n 	Radetzky march\n 	Pirates des caraibes\n 	Danse marocaine n° 3\n 	Hym
 ne\n 	Hijaz 2\n 	Danse marocaine n°4\n 	Fatma\n 	Lama Bada\n 	Kan ya maka
 n\n 	Fi youm oulila\n 	Kiatr hayat\n 	Massira\n 	Guiwaniate\n 	Karboucha\n
  	Moulay abdellah\n 	Lah ya moulana\n 	Carmen suite (Les toreadors)\n\nAdn
 ane Matrone\, director invitado\nJuan Paulo Gómez\, director
ATTACH;FMTTYPE=image/jpeg:https://jopma.org/wp-content/uploads/Casablanca-
 diciembre-2024.jpg
LOCATION:Casablanca (Megarama)\, Bd de la Corniche\, Casablanca\, 29100\, M
 arruecos
GEO:33.596269;-7.674138
X-APPLE-STRUCTURED-LOCATION;VALUE=URI;X-ADDRESS=Bd de la Corniche\, Casabla
 nca\, 29100\, Marruecos;X-APPLE-RADIUS=100;X-TITLE=Casablanca (Megarama):g
 eo:33.596269,-7.674138
END:VEVENT
BEGIN:VTIMEZONE
TZID:Europe/Madrid
X-LIC-LOCATION:Europe/Madrid
BEGIN:STANDARD
DTSTART:20241027T020000
TZOFFSETFROM:+0200
TZOFFSETTO:+0100
TZNAME:CET
END:STANDARD
END:VTIMEZONE
END:VCALENDAR