BEGIN:VCALENDAR
VERSION:2.0
PRODID:-//wp-events-plugin.com//7.2.3.1//EN
TZID:Europe/Madrid
X-WR-TIMEZONE:Europe/Madrid
BEGIN:VEVENT
UID:51@jopma.org
DTSTART;TZID=Europe/Madrid:20250614T190000
DTEND;TZID=Europe/Madrid:20250614T203000
DTSTAMP:20250420T132654Z
URL:https://jopma.org/eventos/canete-la-real/
SUMMARY:Cañete La Real (Plaza de San Sebastián)
DESCRIPTION:Programa\n\n 	La forza del destino (obertura)\nGiuseppe Verdi (
 1801 – 1901)\n 	Rienzi (obertura)\nRichard Wagner (1813 – 1883)\n 	Las
  Hébridas (obertura)\nFelix Mendelssohn (1809 – 1847)\n 	Rapsodia húng
 ara nº 2\nFranz Liszt (1811 – 1886)\n 	Orgía (Danzas fantásticas)\nJo
 aquín Turina (1882 – 1949)\n 	Intermedio (La boda de Luis Alonso)\nGer
 ónimo Giménez (1854 – 1923)\n
ATTACH;FMTTYPE=image/jpeg:https://jopma.org/wp-content/uploads/Canete-La-R
 eal-junio-2025.jpg
LOCATION:Cañete La Real (Plaza de San Sebastián)\, Plaza de San Sebastiá
 n\, Cañete La Real\, Málaga\, 29340\, Andalucía\, España
GEO:36.951188;-5.023559
X-APPLE-STRUCTURED-LOCATION;VALUE=URI;X-ADDRESS=Plaza de San Sebastián\, C
 añete La Real\, Málaga\, 29340\, Andalucía\, España;X-APPLE-RADIUS=100
 ;X-TITLE=Cañete La Real (Plaza de San Sebastián):geo:36.951188,-5.023559
END:VEVENT
BEGIN:VTIMEZONE
TZID:Europe/Madrid
X-LIC-LOCATION:Europe/Madrid
BEGIN:DAYLIGHT
DTSTART:20250330T030000
TZOFFSETFROM:+0100
TZOFFSETTO:+0200
TZNAME:CEST
END:DAYLIGHT
END:VTIMEZONE
END:VCALENDAR