BEGIN:VCALENDAR
VERSION:2.0
PRODID:-//wp-events-plugin.com//7.2.3.1//EN
TZID:Europe/Madrid
X-WR-TIMEZONE:Europe/Madrid
BEGIN:VEVENT
UID:65@jopma.org
DTSTART;TZID=Europe/Madrid:20251011T200000
DTEND;TZID=Europe/Madrid:20251011T213000
DTSTAMP:20251010T210654Z
URL:https://jopma.org/eventos/bizanos-francia-eglise-saint-magne/
SUMMARY:Bizanos\, Francia (Église Saint-Magne)
DESCRIPTION:PROGRAMA\n\n\n 	Las Hébridas (obertura)\nFelix Mendelssohn (18
 09 - 1847)\n 	Danza del fuego (Benamor)\nPablo Luna (1879 - 1942)\n 	Orgí
 a\nJoaquín Turina (1882 - 1949)\n 	Intermedio (La boda de Luis Alonso)\nG
 erónimo Giménez (1854 - 1923)\n 	Requiem en re menor\, KV 626\nWolfgang 
 Amadeus Mozart (1756 - 1791)\n\nSouad Natech\, soprano\nMyriam Labri\, mez
 zo\nClément Lanfranchi\, tenor\nEric Demarteau\, barítono-bajo\nChorale 
 du Lavedan\nMirtha Alcaraz Dahhani\, directora\nJuan Paulo Gómez\, direct
 or
ATTACH;FMTTYPE=image/jpeg:https://jopma.org/wp-content/uploads/Bizanos-Fra
 ncia-octubre-2025.jpg
LOCATION:Bizanos\, Francia (Église Saint-Magne)\, 35 Rue Georges Clemencea
 u\, Bizanos (Francia)\, 64320\, Francia
GEO:43.28815;-0.352203
X-APPLE-STRUCTURED-LOCATION;VALUE=URI;X-ADDRESS=35 Rue Georges Clemenceau\,
  Bizanos (Francia)\, 64320\, Francia;X-APPLE-RADIUS=100;X-TITLE=Bizanos\, 
 Francia (Église Saint-Magne):geo:43.28815,-0.352203
END:VEVENT
BEGIN:VTIMEZONE
TZID:Europe/Madrid
X-LIC-LOCATION:Europe/Madrid
BEGIN:DAYLIGHT
DTSTART:20250330T030000
TZOFFSETFROM:+0100
TZOFFSETTO:+0200
TZNAME:CEST
END:DAYLIGHT
END:VTIMEZONE
END:VCALENDAR