BEGIN:VCALENDAR
VERSION:2.0
PRODID:-//wp-events-plugin.com//7.2.3.1//EN
TZID:Europe/Madrid
X-WR-TIMEZONE:Europe/Madrid
BEGIN:VEVENT
UID:66@jopma.org
DTSTART;TZID=Europe/Madrid:20251012T180000
DTEND;TZID=Europe/Madrid:20251012T193000
DTSTAMP:20251010T210741Z
URL:https://jopma.org/eventos/argeles-gazost-francia-eglise-saint-saturnin
 /
SUMMARY:Argelès-Gazost\, Francia (Eglise Saint Saturnin)
DESCRIPTION:PROGRAMA\n\n\n 	Las Hébridas (obertura)\nFelix Mendelssohn (18
 09 - 1847)\n 	Danza del fuego (Benamor)\nPablo Luna (1879 - 1942)\n 	Orgí
 a\nJoaquín Turina (1882 - 1949)\n 	Intermedio (La boda de Luis Alonso)\nG
 erónimo Giménez (1854 - 1923)\n 	Requiem en re menor\, KV 626\nWolfgang 
 Amadeus Mozart (1756 - 1791)\n\nAnaïs Godin\, soprano\nMyriam Labri\, mez
 zo\nClément Lanfranchi\, tenor\nEric Demarteau\, barítono-bajo\nChorale 
 du Lavedan\nMirtha Alcaraz Dahhani\, directora\nJuan Paulo Gómez\, direct
 or
ATTACH;FMTTYPE=image/jpeg:https://jopma.org/wp-content/uploads/Gazost-Fran
 cia-octubre-2025.jpg
LOCATION:Argelès-Gazost\, Francia (Eglise Saint Saturnin)\, 8 Rue du Huit 
 Mai 1945\, Argelès-Gazost\, 65400 \, Francia
GEO:43.005928;-0.10088
X-APPLE-STRUCTURED-LOCATION;VALUE=URI;X-ADDRESS=8 Rue du Huit Mai 1945\, Ar
 gelès-Gazost\, 65400 \, Francia;X-APPLE-RADIUS=100;X-TITLE=Argelès-Gazos
 t\, Francia (Eglise Saint Saturnin):geo:43.005928,-0.10088
END:VEVENT
BEGIN:VTIMEZONE
TZID:Europe/Madrid
X-LIC-LOCATION:Europe/Madrid
BEGIN:DAYLIGHT
DTSTART:20250330T030000
TZOFFSETFROM:+0100
TZOFFSETTO:+0200
TZNAME:CEST
END:DAYLIGHT
END:VTIMEZONE
END:VCALENDAR